BEGIN:VCALENDAR
VERSION:2.0
PRODID:-//FC Olympia Bocholt 1911 e. V. - ECPv6.15.20//NONSGML v1.0//EN
CALSCALE:GREGORIAN
METHOD:PUBLISH
X-WR-CALNAME:FC Olympia Bocholt 1911 e. V.
X-ORIGINAL-URL:https://fc-olympia-bocholt.de
X-WR-CALDESC:Veranstaltungen für FC Olympia Bocholt 1911 e. V.
REFRESH-INTERVAL;VALUE=DURATION:PT1H
X-Robots-Tag:noindex
X-PUBLISHED-TTL:PT1H
BEGIN:VTIMEZONE
TZID:Europe/Berlin
BEGIN:DAYLIGHT
TZOFFSETFROM:+0100
TZOFFSETTO:+0200
TZNAME:CEST
DTSTART:20250330T010000
END:DAYLIGHT
BEGIN:STANDARD
TZOFFSETFROM:+0200
TZOFFSETTO:+0100
TZNAME:CET
DTSTART:20251026T010000
END:STANDARD
BEGIN:DAYLIGHT
TZOFFSETFROM:+0100
TZOFFSETTO:+0200
TZNAME:CEST
DTSTART:20260329T010000
END:DAYLIGHT
BEGIN:STANDARD
TZOFFSETFROM:+0200
TZOFFSETTO:+0100
TZNAME:CET
DTSTART:20261025T010000
END:STANDARD
BEGIN:DAYLIGHT
TZOFFSETFROM:+0100
TZOFFSETTO:+0200
TZNAME:CEST
DTSTART:20270328T010000
END:DAYLIGHT
BEGIN:STANDARD
TZOFFSETFROM:+0200
TZOFFSETTO:+0100
TZNAME:CET
DTSTART:20271031T010000
END:STANDARD
END:VTIMEZONE
BEGIN:VEVENT
DTSTART;TZID=Europe/Berlin:20261212T080000
DTEND;TZID=Europe/Berlin:20261212T170000
DTSTAMP:20260424T174302
CREATED:20260225T140034Z
LAST-MODIFIED:20260225T140034Z
UID:1277-1797062400-1797094800@fc-olympia-bocholt.de
SUMMARY:Altherren-Abteilung Weihnachtsfeier
DESCRIPTION:
URL:https://fc-olympia-bocholt.de/event/altherren-abteilung-weihnachtsfeier/
CATEGORIES:Intern
END:VEVENT
BEGIN:VEVENT
DTSTART;TZID=Europe/Berlin:20261219T190000
DTEND;TZID=Europe/Berlin:20261219T235900
DTSTAMP:20260424T174302
CREATED:20260225T140128Z
LAST-MODIFIED:20260225T140128Z
UID:1279-1797706800-1797724740@fc-olympia-bocholt.de
SUMMARY:Weihnachtsfeier Hauptverein
DESCRIPTION:
URL:https://fc-olympia-bocholt.de/event/weihnachtsfeier-hauptverein/
LOCATION:FC Olympia Bocholt 1911 e. V.\, Am Hünting 15\, Bocholt\, 46397\, Germany
CATEGORIES:Intern
END:VEVENT
END:VCALENDAR